BEGIN:VCALENDAR
VERSION:2.0
PRODID:icalendar-ruby
CALSCALE:GREGORIAN
METHOD:PUBLISH
BEGIN:VEVENT
DTSTAMP:20260421T115659Z
UID:40-369005@connectchurchfl.com
DTSTART:20260427T140000Z
DTEND:20260428T033000Z
CLASS:PUBLIC
CREATED:20260420T100812
DESCRIPTION:
LAST-MODIFIED:20260420T100812
LOCATION:
SUMMARY:Women's Bible Study
URL;VALUE=URI:https://connectchurchfl.com/events/womens-bible-study/2026-04
 -27
ATTACH;FILENAME=mVzf.jpg;FMTTYPE=image/jpeg:https://dq5pwpg1q8ru0.cloudfron
 t.net/2026/04/20/14/08/11/6f2b6957-d673-4d47-8e82-6385189910de/mVzf.jpg
END:VEVENT
END:VCALENDAR
